BEGIN:VCALENDAR
VERSION:2.0
PRODID:-//Maryland Hillel - ECPv6.15.20//NONSGML v1.0//EN
CALSCALE:GREGORIAN
METHOD:PUBLISH
X-WR-CALNAME:Maryland Hillel
X-ORIGINAL-URL:https://marylandhillel.org
X-WR-CALDESC:Events for Maryland Hillel
REFRESH-INTERVAL;VALUE=DURATION:PT1H
X-Robots-Tag:noindex
X-PUBLISHED-TTL:PT1H
BEGIN:VTIMEZONE
TZID:America/New_York
BEGIN:DAYLIGHT
TZOFFSETFROM:-0500
TZOFFSETTO:-0400
TZNAME:EDT
DTSTART:20220313T070000
END:DAYLIGHT
BEGIN:STANDARD
TZOFFSETFROM:-0400
TZOFFSETTO:-0500
TZNAME:EST
DTSTART:20221106T060000
END:STANDARD
BEGIN:DAYLIGHT
TZOFFSETFROM:-0500
TZOFFSETTO:-0400
TZNAME:EDT
DTSTART:20230312T070000
END:DAYLIGHT
BEGIN:STANDARD
TZOFFSETFROM:-0400
TZOFFSETTO:-0500
TZNAME:EST
DTSTART:20231105T060000
END:STANDARD
BEGIN:DAYLIGHT
TZOFFSETFROM:-0500
TZOFFSETTO:-0400
TZNAME:EDT
DTSTART:20240310T070000
END:DAYLIGHT
BEGIN:STANDARD
TZOFFSETFROM:-0400
TZOFFSETTO:-0500
TZNAME:EST
DTSTART:20241103T060000
END:STANDARD
END:VTIMEZONE
BEGIN:VEVENT
DTSTART;TZID=America/New_York:20230519T180000
DTEND;TZID=America/New_York:20230519T210000
DTSTAMP:20260422T091947
CREATED:20230129T120855Z
LAST-MODIFIED:20230411T131549Z
UID:10000067-1684519200-1684530000@marylandhillel.org
SUMMARY:Shabbat at Hillel
DESCRIPTION:Join us every Friday night as a community to celebrate Shabbat! \n6:00 p.m. – Conservative and Orthodox Services\n7:15 p.m. – Community Dinner (meal Kosher meal with gluten-free\, nut-free\, soy-free\, and vegetarian/vegan options)
URL:https://marylandhillel.org/event/shabbat-at-hillel-2/2023-05-19/
LOCATION:Multiple Rooms\, 7612 Mowatt Lane\, College Park\, MD\, 20740\, United States
CATEGORIES:Uncategorized
END:VEVENT
BEGIN:VEVENT
DTSTART;TZID=America/New_York:20230512T180000
DTEND;TZID=America/New_York:20230512T210000
DTSTAMP:20260422T091947
CREATED:20230129T120855Z
LAST-MODIFIED:20230411T131549Z
UID:10000066-1683914400-1683925200@marylandhillel.org
SUMMARY:Shabbat at Hillel
DESCRIPTION:Join us every Friday night as a community to celebrate Shabbat! \n6:00 p.m. – Conservative and Orthodox Services\n7:15 p.m. – Community Dinner (meal Kosher meal with gluten-free\, nut-free\, soy-free\, and vegetarian/vegan options)
URL:https://marylandhillel.org/event/shabbat-at-hillel-2/2023-05-12/
LOCATION:Multiple Rooms\, 7612 Mowatt Lane\, College Park\, MD\, 20740\, United States
CATEGORIES:Uncategorized
END:VEVENT
BEGIN:VEVENT
DTSTART;TZID=America/New_York:20230505T180000
DTEND;TZID=America/New_York:20230505T210000
DTSTAMP:20260422T091947
CREATED:20230129T120855Z
LAST-MODIFIED:20230411T131549Z
UID:10000065-1683309600-1683320400@marylandhillel.org
SUMMARY:Shabbat at Hillel
DESCRIPTION:Join us every Friday night as a community to celebrate Shabbat! \n6:00 p.m. – Conservative and Orthodox Services\n7:15 p.m. – Community Dinner (meal Kosher meal with gluten-free\, nut-free\, soy-free\, and vegetarian/vegan options)
URL:https://marylandhillel.org/event/shabbat-at-hillel-2/2023-05-05/
LOCATION:Multiple Rooms\, 7612 Mowatt Lane\, College Park\, MD\, 20740\, United States
CATEGORIES:Uncategorized
END:VEVENT
BEGIN:VEVENT
DTSTART;TZID=America/New_York:20230428T180000
DTEND;TZID=America/New_York:20230428T210000
DTSTAMP:20260422T091947
CREATED:20230129T120855Z
LAST-MODIFIED:20230411T131549Z
UID:10000064-1682704800-1682715600@marylandhillel.org
SUMMARY:Shabbat at Hillel
DESCRIPTION:Join us every Friday night as a community to celebrate Shabbat! \n6:00 p.m. – Conservative and Orthodox Services\n7:15 p.m. – Community Dinner (meal Kosher meal with gluten-free\, nut-free\, soy-free\, and vegetarian/vegan options)
URL:https://marylandhillel.org/event/shabbat-at-hillel-2/2023-04-28/
LOCATION:Multiple Rooms\, 7612 Mowatt Lane\, College Park\, MD\, 20740\, United States
CATEGORIES:Uncategorized
END:VEVENT
BEGIN:VEVENT
DTSTART;TZID=America/New_York:20230421T180000
DTEND;TZID=America/New_York:20230421T210000
DTSTAMP:20260422T091947
CREATED:20230129T120855Z
LAST-MODIFIED:20230411T131549Z
UID:10000063-1682100000-1682110800@marylandhillel.org
SUMMARY:Shabbat at Hillel
DESCRIPTION:Join us every Friday night as a community to celebrate Shabbat! \n6:00 p.m. – Conservative and Orthodox Services\n7:15 p.m. – Community Dinner (meal Kosher meal with gluten-free\, nut-free\, soy-free\, and vegetarian/vegan options)
URL:https://marylandhillel.org/event/shabbat-at-hillel-2/2023-04-21/
LOCATION:Multiple Rooms\, 7612 Mowatt Lane\, College Park\, MD\, 20740\, United States
CATEGORIES:Uncategorized
END:VEVENT
BEGIN:VEVENT
DTSTART;VALUE=DATE:20230420
DTEND;VALUE=DATE:20230424
DTSTAMP:20260422T091947
CREATED:20230222T143849Z
LAST-MODIFIED:20230411T130317Z
UID:10000583-1681948800-1682294399@marylandhillel.org
SUMMARY:National Hillel Basketball Tournament
DESCRIPTION:
URL:https://marylandhillel.org/event/national-hillel-basketball-tournament/
LOCATION:Multiple Rooms\, 7612 Mowatt Lane\, College Park\, MD\, 20740\, United States
CATEGORIES:Uncategorized
END:VEVENT
BEGIN:VEVENT
DTSTART;TZID=America/New_York:20230414T180000
DTEND;TZID=America/New_York:20230414T210000
DTSTAMP:20260422T091947
CREATED:20230129T120855Z
LAST-MODIFIED:20230411T131549Z
UID:10000062-1681495200-1681506000@marylandhillel.org
SUMMARY:Shabbat at Hillel
DESCRIPTION:Join us every Friday night as a community to celebrate Shabbat! \n6:00 p.m. – Conservative and Orthodox Services\n7:15 p.m. – Community Dinner (meal Kosher meal with gluten-free\, nut-free\, soy-free\, and vegetarian/vegan options)
URL:https://marylandhillel.org/event/shabbat-at-hillel-2/2023-04-14/
LOCATION:Multiple Rooms\, 7612 Mowatt Lane\, College Park\, MD\, 20740\, United States
CATEGORIES:Uncategorized
END:VEVENT
BEGIN:VEVENT
DTSTART;TZID=America/New_York:20230407T180000
DTEND;TZID=America/New_York:20230407T210000
DTSTAMP:20260422T091947
CREATED:20230129T120855Z
LAST-MODIFIED:20230411T131549Z
UID:10000061-1680890400-1680901200@marylandhillel.org
SUMMARY:Shabbat at Hillel
DESCRIPTION:Join us every Friday night as a community to celebrate Shabbat! \n6:00 p.m. – Conservative and Orthodox Services\n7:15 p.m. – Community Dinner (meal Kosher meal with gluten-free\, nut-free\, soy-free\, and vegetarian/vegan options)
URL:https://marylandhillel.org/event/shabbat-at-hillel-2/2023-04-07/
LOCATION:Multiple Rooms\, 7612 Mowatt Lane\, College Park\, MD\, 20740\, United States
CATEGORIES:Uncategorized
END:VEVENT
BEGIN:VEVENT
DTSTART;TZID=America/New_York:20230331T180000
DTEND;TZID=America/New_York:20230331T210000
DTSTAMP:20260422T091947
CREATED:20230129T120855Z
LAST-MODIFIED:20230411T131549Z
UID:10000060-1680285600-1680296400@marylandhillel.org
SUMMARY:Shabbat at Hillel
DESCRIPTION:Join us every Friday night as a community to celebrate Shabbat! \n6:00 p.m. – Conservative and Orthodox Services\n7:15 p.m. – Community Dinner (meal Kosher meal with gluten-free\, nut-free\, soy-free\, and vegetarian/vegan options)
URL:https://marylandhillel.org/event/shabbat-at-hillel-2/2023-03-31/
LOCATION:Multiple Rooms\, 7612 Mowatt Lane\, College Park\, MD\, 20740\, United States
CATEGORIES:Uncategorized
END:VEVENT
BEGIN:VEVENT
DTSTART;TZID=America/New_York:20230324T180000
DTEND;TZID=America/New_York:20230324T210000
DTSTAMP:20260422T091947
CREATED:20230129T120855Z
LAST-MODIFIED:20230411T131549Z
UID:10000059-1679680800-1679691600@marylandhillel.org
SUMMARY:Shabbat at Hillel
DESCRIPTION:Join us every Friday night as a community to celebrate Shabbat! \n6:00 p.m. – Conservative and Orthodox Services\n7:15 p.m. – Community Dinner (meal Kosher meal with gluten-free\, nut-free\, soy-free\, and vegetarian/vegan options)
URL:https://marylandhillel.org/event/shabbat-at-hillel-2/2023-03-24/
LOCATION:Multiple Rooms\, 7612 Mowatt Lane\, College Park\, MD\, 20740\, United States
CATEGORIES:Uncategorized
END:VEVENT
BEGIN:VEVENT
DTSTART;TZID=America/New_York:20230317T180000
DTEND;TZID=America/New_York:20230317T210000
DTSTAMP:20260422T091947
CREATED:20230129T120855Z
LAST-MODIFIED:20230411T131549Z
UID:10000058-1679076000-1679086800@marylandhillel.org
SUMMARY:Shabbat at Hillel
DESCRIPTION:Join us every Friday night as a community to celebrate Shabbat! \n6:00 p.m. – Conservative and Orthodox Services\n7:15 p.m. – Community Dinner (meal Kosher meal with gluten-free\, nut-free\, soy-free\, and vegetarian/vegan options)
URL:https://marylandhillel.org/event/shabbat-at-hillel-2/2023-03-17/
LOCATION:Multiple Rooms\, 7612 Mowatt Lane\, College Park\, MD\, 20740\, United States
CATEGORIES:Uncategorized
END:VEVENT
BEGIN:VEVENT
DTSTART;TZID=America/New_York:20230310T180000
DTEND;TZID=America/New_York:20230310T210000
DTSTAMP:20260422T091947
CREATED:20230129T120855Z
LAST-MODIFIED:20230411T131549Z
UID:10000057-1678471200-1678482000@marylandhillel.org
SUMMARY:Shabbat at Hillel
DESCRIPTION:Join us every Friday night as a community to celebrate Shabbat! \n6:00 p.m. – Conservative and Orthodox Services\n7:15 p.m. – Community Dinner (meal Kosher meal with gluten-free\, nut-free\, soy-free\, and vegetarian/vegan options)
URL:https://marylandhillel.org/event/shabbat-at-hillel-2/2023-03-10/
LOCATION:Multiple Rooms\, 7612 Mowatt Lane\, College Park\, MD\, 20740\, United States
CATEGORIES:Uncategorized
END:VEVENT
BEGIN:VEVENT
DTSTART;TZID=America/New_York:20230309T153000
DTEND;TZID=America/New_York:20230309T183000
DTSTAMP:20260422T091947
CREATED:20230306T220535Z
LAST-MODIFIED:20230411T131009Z
UID:10000606-1678375800-1678386600@marylandhillel.org
SUMMARY:AIPAC at Maryland
DESCRIPTION:AIPAC is visiting UMD after the Hillel Israel Summit to give some informational sessions on AIPAC and current affairs in Israel. There will be a 3:30PM session with TFI executive board\, a 4:00PM AIPAC 101 session with general body members\, and 5:15PM Political Advocacy talk. Since this is last minute and to work around other club events\, we could do session #1 (3:30 – 4:00) and session #2 (4:00 – 5:00) in the MPR\, and session #3 (5:15) in the Beit Midrash/Library
URL:https://marylandhillel.org/event/aipac-at-maryland/
LOCATION:Multiple Rooms\, 7612 Mowatt Lane\, College Park\, MD\, 20740\, United States
END:VEVENT
BEGIN:VEVENT
DTSTART;TZID=America/New_York:20230303T180000
DTEND;TZID=America/New_York:20230303T210000
DTSTAMP:20260422T091947
CREATED:20230129T120855Z
LAST-MODIFIED:20230411T131549Z
UID:10000056-1677866400-1677877200@marylandhillel.org
SUMMARY:Shabbat at Hillel
DESCRIPTION:Join us every Friday night as a community to celebrate Shabbat! \n6:00 p.m. – Conservative and Orthodox Services\n7:15 p.m. – Community Dinner (meal Kosher meal with gluten-free\, nut-free\, soy-free\, and vegetarian/vegan options)
URL:https://marylandhillel.org/event/shabbat-at-hillel-2/2023-03-03/
LOCATION:Multiple Rooms\, 7612 Mowatt Lane\, College Park\, MD\, 20740\, United States
CATEGORIES:Uncategorized
END:VEVENT
BEGIN:VEVENT
DTSTART;TZID=America/New_York:20230224T180000
DTEND;TZID=America/New_York:20230224T210000
DTSTAMP:20260422T091947
CREATED:20230129T120855Z
LAST-MODIFIED:20230411T131549Z
UID:10000055-1677261600-1677272400@marylandhillel.org
SUMMARY:Shabbat at Hillel
DESCRIPTION:Join us every Friday night as a community to celebrate Shabbat! \n6:00 p.m. – Conservative and Orthodox Services\n7:15 p.m. – Community Dinner (meal Kosher meal with gluten-free\, nut-free\, soy-free\, and vegetarian/vegan options)
URL:https://marylandhillel.org/event/shabbat-at-hillel-2/2023-02-24/
LOCATION:Multiple Rooms\, 7612 Mowatt Lane\, College Park\, MD\, 20740\, United States
CATEGORIES:Uncategorized
END:VEVENT
BEGIN:VEVENT
DTSTART;TZID=America/New_York:20230217T180000
DTEND;TZID=America/New_York:20230217T210000
DTSTAMP:20260422T091947
CREATED:20230129T120855Z
LAST-MODIFIED:20230411T131549Z
UID:10000054-1676656800-1676667600@marylandhillel.org
SUMMARY:Shabbat at Hillel
DESCRIPTION:Join us every Friday night as a community to celebrate Shabbat! \n6:00 p.m. – Conservative and Orthodox Services\n7:15 p.m. – Community Dinner (meal Kosher meal with gluten-free\, nut-free\, soy-free\, and vegetarian/vegan options)
URL:https://marylandhillel.org/event/shabbat-at-hillel-2/2023-02-17/
LOCATION:Multiple Rooms\, 7612 Mowatt Lane\, College Park\, MD\, 20740\, United States
CATEGORIES:Uncategorized
END:VEVENT
BEGIN:VEVENT
DTSTART;TZID=America/New_York:20230210T180000
DTEND;TZID=America/New_York:20230210T210000
DTSTAMP:20260422T091947
CREATED:20230129T120855Z
LAST-MODIFIED:20230411T131549Z
UID:10000053-1676052000-1676062800@marylandhillel.org
SUMMARY:Shabbat at Hillel
DESCRIPTION:Join us every Friday night as a community to celebrate Shabbat! \n6:00 p.m. – Conservative and Orthodox Services\n7:15 p.m. – Community Dinner (meal Kosher meal with gluten-free\, nut-free\, soy-free\, and vegetarian/vegan options)
URL:https://marylandhillel.org/event/shabbat-at-hillel-2/2023-02-10/
LOCATION:Multiple Rooms\, 7612 Mowatt Lane\, College Park\, MD\, 20740\, United States
CATEGORIES:Uncategorized
END:VEVENT
BEGIN:VEVENT
DTSTART;TZID=America/New_York:20230203T180000
DTEND;TZID=America/New_York:20230203T210000
DTSTAMP:20260422T091947
CREATED:20230129T120855Z
LAST-MODIFIED:20230411T131549Z
UID:10000052-1675447200-1675458000@marylandhillel.org
SUMMARY:Shabbat at Hillel
DESCRIPTION:Join us every Friday night as a community to celebrate Shabbat! \n6:00 p.m. – Conservative and Orthodox Services\n7:15 p.m. – Community Dinner (meal Kosher meal with gluten-free\, nut-free\, soy-free\, and vegetarian/vegan options)
URL:https://marylandhillel.org/event/shabbat-at-hillel-2/2023-02-03/
LOCATION:Multiple Rooms\, 7612 Mowatt Lane\, College Park\, MD\, 20740\, United States
CATEGORIES:Uncategorized
END:VEVENT
END:VCALENDAR