BEGIN:VCALENDAR
VERSION:2.0
PRODID:-//Maryland Hillel - ECPv6.15.20//NONSGML v1.0//EN
CALSCALE:GREGORIAN
METHOD:PUBLISH
X-ORIGINAL-URL:https://marylandhillel.org
X-WR-CALDESC:Events for Maryland Hillel
REFRESH-INTERVAL;VALUE=DURATION:PT1H
X-Robots-Tag:noindex
X-PUBLISHED-TTL:PT1H
BEGIN:VTIMEZONE
TZID:America/New_York
BEGIN:DAYLIGHT
TZOFFSETFROM:-0500
TZOFFSETTO:-0400
TZNAME:EDT
DTSTART:20230312T070000
END:DAYLIGHT
BEGIN:STANDARD
TZOFFSETFROM:-0400
TZOFFSETTO:-0500
TZNAME:EST
DTSTART:20231105T060000
END:STANDARD
BEGIN:DAYLIGHT
TZOFFSETFROM:-0500
TZOFFSETTO:-0400
TZNAME:EDT
DTSTART:20240310T070000
END:DAYLIGHT
BEGIN:STANDARD
TZOFFSETFROM:-0400
TZOFFSETTO:-0500
TZNAME:EST
DTSTART:20241103T060000
END:STANDARD
BEGIN:DAYLIGHT
TZOFFSETFROM:-0500
TZOFFSETTO:-0400
TZNAME:EDT
DTSTART:20250309T070000
END:DAYLIGHT
BEGIN:STANDARD
TZOFFSETFROM:-0400
TZOFFSETTO:-0500
TZNAME:EST
DTSTART:20251102T060000
END:STANDARD
BEGIN:DAYLIGHT
TZOFFSETFROM:-0500
TZOFFSETTO:-0400
TZNAME:EDT
DTSTART:20260308T070000
END:DAYLIGHT
BEGIN:STANDARD
TZOFFSETFROM:-0400
TZOFFSETTO:-0500
TZNAME:EST
DTSTART:20261101T060000
END:STANDARD
END:VTIMEZONE
BEGIN:VEVENT
DTSTART;VALUE=DATE:20251114
DTEND;VALUE=DATE:20251116
DTSTAMP:20260421T072747
CREATED:20250807T175407Z
LAST-MODIFIED:20250811T140414Z
UID:10003119-1763078400-1763251199@marylandhillel.org
SUMMARY:Maryland Torah Bowl 2025
DESCRIPTION:A friendly quiz-bowl-style test of your Torah knowledge!
URL:https://marylandhillel.org/event/maryland-torah-bowl-2025/
CATEGORIES:Learning,Shabbat
END:VEVENT
BEGIN:VEVENT
DTSTART;TZID=America/New_York:20251107T173000
DTEND;TZID=America/New_York:20251107T193000
DTSTAMP:20260421T072747
CREATED:20251031T124659Z
LAST-MODIFIED:20251031T130722Z
UID:10003248-1762536600-1762543800@marylandhillel.org
SUMMARY:Women’s Tefillah Kabbalat Shabbat
DESCRIPTION:
URL:https://marylandhillel.org/event/womens-tefillah-kabbalat-shabbat/
CATEGORIES:Shabbat
END:VEVENT
BEGIN:VEVENT
DTSTART;TZID=America/New_York:20250501T173000
DTEND;TZID=America/New_York:20250501T191500
DTSTAMP:20260421T072747
CREATED:20250422T195236Z
LAST-MODIFIED:20250422T200511Z
UID:10003000-1746120600-1746126900@marylandhillel.org
SUMMARY:3 strands
DESCRIPTION:3 strands
URL:https://marylandhillel.org/event/3-strands-5/
CATEGORIES:Shabbat,Student Organization
END:VEVENT
BEGIN:VEVENT
DTSTART;TZID=America/New_York:20241206T180000
DTEND;TZID=America/New_York:20241206T210000
DTSTAMP:20260421T072747
CREATED:20241118T171010Z
LAST-MODIFIED:20241118T171010Z
UID:10002292-1733508000-1733518800@marylandhillel.org
SUMMARY:Rak Shalom Reunion Shabbat Dinner
DESCRIPTION:
URL:https://marylandhillel.org/event/rak-shalom-reunion-shabbat-dinner/
CATEGORIES:Shabbat
END:VEVENT
BEGIN:VEVENT
DTSTART;TZID=America/New_York:20240510T193000
DTEND;TZID=America/New_York:20240510T203000
DTSTAMP:20260421T072747
CREATED:20240508T181234Z
LAST-MODIFIED:20240508T181234Z
UID:10001724-1715369400-1715373000@marylandhillel.org
SUMMARY:Ruach Friday Night Shabbat Services
DESCRIPTION:Join us for our final Shabbat service of the semester! 7:30PM in the upstairs library
URL:https://marylandhillel.org/event/ruach-friday-night-shabbat-services/
CATEGORIES:Shabbat
END:VEVENT
END:VCALENDAR